Package: Rbec Version: 1.14.0 Command: /Library/Frameworks/R.framework/Resources/bin/R CMD INSTALL Rbec StartedAt: 2025-01-30 16:21:22 -0500 (Thu, 30 Jan 2025) EndedAt: 2025-01-30 16:21:30 -0500 (Thu, 30 Jan 2025) EllapsedTime: 7.5 seconds RetCode: 1 Status: ERROR