Package: RbcBook1 Version: 1.74.0 Command: /home/biocbuild/R/R/bin/R CMD INSTALL RbcBook1 StartedAt: 2025-01-30 20:09:01 -0000 (Thu, 30 Jan 2025) EndedAt: 2025-01-30 20:09:19 -0000 (Thu, 30 Jan 2025) EllapsedTime: 17.7 seconds RetCode: 0 Status: OK