Package: RbcBook1 Version: 1.74.0 Command: chmod a+r RbcBook1 -R && F:\biocbuild\bbs-3.20-bioc\R\bin\R.exe CMD build --keep-empty-dirs --no-resave-data RbcBook1 StartedAt: 2025-01-30 21:15:29 -0500 (Thu, 30 Jan 2025) EndedAt: 2025-01-30 21:15:43 -0500 (Thu, 30 Jan 2025) EllapsedTime: 13.0 seconds RetCode: 0 Status: OK PackageFile: RbcBook1_1.74.0.tar.gz PackageFileSize: 6.393 MiB