Package: RbcBook1 Version: 1.74.0 Command: /Library/Frameworks/R.framework/Resources/bin/R CMD INSTALL RbcBook1 StartedAt: 2025-01-30 15:09:50 -0500 (Thu, 30 Jan 2025) EndedAt: 2025-01-30 15:10:02 -0500 (Thu, 30 Jan 2025) EllapsedTime: 12.1 seconds RetCode: 0 Status: OK