Package: RbcBook1 Version: 1.74.0 Command: /Library/Frameworks/R.framework/Resources/bin/R CMD build --keep-empty-dirs --no-resave-data RbcBook1 StartedAt: 2025-01-30 22:05:53 -0500 (Thu, 30 Jan 2025) EndedAt: 2025-01-30 22:06:14 -0500 (Thu, 30 Jan 2025) EllapsedTime: 20.6 seconds RetCode: 0 Status: OK PackageFile: RbcBook1_1.74.0.tar.gz PackageFileSize: 6.412 MiB