Package: RbcBook1 Version: 1.74.0 Command: /Library/Frameworks/R.framework/Resources/bin/R CMD check --install=check:RbcBook1.install-out.txt --library=/Library/Frameworks/R.framework/Resources/library --no-vignettes --timings RbcBook1_1.74.0.tar.gz StartedAt: 2025-02-01 05:58:44 -0500 (Sat, 01 Feb 2025) EndedAt: 2025-02-01 05:59:19 -0500 (Sat, 01 Feb 2025) EllapsedTime: 35.2 seconds RetCode: 0 Status: OK CheckDir: RbcBook1.Rcheck Warnings: 0