Package: RankProd Version: 3.32.0 Command: /Library/Frameworks/R.framework/Resources/bin/R CMD check --install=check:RankProd.install-out.txt --library=/Library/Frameworks/R.framework/Resources/library --no-vignettes --timings RankProd_3.32.0.tar.gz StartedAt: 2025-01-31 08:36:36 -0500 (Fri, 31 Jan 2025) EndedAt: 2025-01-31 08:38:13 -0500 (Fri, 31 Jan 2025) EllapsedTime: 97.5 seconds RetCode: 0 Status: OK CheckDir: RankProd.Rcheck Warnings: 0