Package: RankProd Version: 3.32.0 Command: /Library/Frameworks/R.framework/Resources/bin/R CMD build --keep-empty-dirs --no-resave-data RankProd StartedAt: 2025-01-31 06:03:41 -0500 (Fri, 31 Jan 2025) EndedAt: 2025-01-31 06:04:01 -0500 (Fri, 31 Jan 2025) EllapsedTime: 19.4 seconds RetCode: 0 Status: OK PackageFile: RankProd_3.32.0.tar.gz PackageFileSize: 777.1 KiB