Package: RaggedExperiment Version: 1.30.0 Command: /Library/Frameworks/R.framework/Resources/bin/R CMD check --install=check:RaggedExperiment.install-out.txt --library=/Library/Frameworks/R.framework/Resources/library --no-vignettes --timings RaggedExperiment_1.30.0.tar.gz StartedAt: 2025-02-01 05:50:07 -0500 (Sat, 01 Feb 2025) EndedAt: 2025-02-01 05:53:14 -0500 (Sat, 01 Feb 2025) EllapsedTime: 187.0 seconds RetCode: 0 Status: OK CheckDir: RaggedExperiment.Rcheck Warnings: 0