Package: RaggedExperiment Version: 1.30.0 Command: rm -rf RaggedExperiment.buildbin-libdir && mkdir RaggedExperiment.buildbin-libdir && /Users/biocbuild/BBS/utils/build-universal.sh RaggedExperiment_1.30.0.tar.gz /Library/Frameworks/R.framework/Resources/bin/R RaggedExperiment.buildbin-libdir StartedAt: 2025-02-01 16:20:58 -0500 (Sat, 01 Feb 2025) EndedAt: 2025-02-01 16:21:27 -0500 (Sat, 01 Feb 2025) EllapsedTime: 29.5 seconds RetCode: 0 Status: OK PackageFile: RaggedExperiment_1.30.0.tgz PackageFileSize: 1.165 MiB