Package: RadioGx Version: 2.10.0 Command: /Library/Frameworks/R.framework/Resources/bin/R CMD build --keep-empty-dirs --no-resave-data RadioGx StartedAt: 2025-01-30 22:03:59 -0500 (Thu, 30 Jan 2025) EndedAt: 2025-01-30 22:05:53 -0500 (Thu, 30 Jan 2025) EllapsedTime: 114.0 seconds RetCode: 0 Status: OK PackageFile: RadioGx_2.10.0.tar.gz PackageFileSize: 2.778 MiB