Package: RadioGx Version: 2.10.0 Command: /Library/Frameworks/R.framework/Resources/bin/R CMD INSTALL RadioGx StartedAt: 2025-01-30 17:23:49 -0500 (Thu, 30 Jan 2025) EndedAt: 2025-01-30 17:24:32 -0500 (Thu, 30 Jan 2025) EllapsedTime: 42.9 seconds RetCode: 0 Status: OK