Package: RadioGx Version: 2.10.0 Command: /Library/Frameworks/R.framework/Resources/bin/R CMD build --keep-empty-dirs --no-resave-data RadioGx StartedAt: 2025-01-31 05:58:57 -0500 (Fri, 31 Jan 2025) EndedAt: 2025-01-31 06:00:03 -0500 (Fri, 31 Jan 2025) EllapsedTime: 66.0 seconds RetCode: 0 Status: OK PackageFile: RadioGx_2.10.0.tar.gz PackageFileSize: 2.778 MiB