Package: RadioGx Version: 2.10.0 Command: rm -rf RadioGx.buildbin-libdir && mkdir RadioGx.buildbin-libdir && /Users/biocbuild/BBS/utils/build-universal.sh RadioGx_2.10.0.tar.gz /Library/Frameworks/R.framework/Resources/bin/R RadioGx.buildbin-libdir StartedAt: 2025-02-01 16:20:58 -0500 (Sat, 01 Feb 2025) EndedAt: 2025-02-01 16:21:45 -0500 (Sat, 01 Feb 2025) EllapsedTime: 47.0 seconds RetCode: 0 Status: OK PackageFile: RadioGx_2.10.0.tgz PackageFileSize: 4.49 MiB