Package: RUVcorr Version: 1.38.0 Command: /home/biocbuild/R/R/bin/R CMD check --install=check:RUVcorr.install-out.txt --library=/home/biocbuild/R/R/site-library --no-vignettes --timings RUVcorr_1.38.0.tar.gz StartedAt: 2025-01-31 09:58:50 -0000 (Fri, 31 Jan 2025) EndedAt: 2025-01-31 10:02:11 -0000 (Fri, 31 Jan 2025) EllapsedTime: 201.3 seconds RetCode: 0 Status: WARNINGS CheckDir: RUVcorr.Rcheck Warnings: 1