Package: RUVcorr Version: 1.38.0 Command: rm -rf RUVcorr.buildbin-libdir && mkdir RUVcorr.buildbin-libdir && /Users/biocbuild/BBS/utils/build-universal.sh RUVcorr_1.38.0.tar.gz /Library/Frameworks/R.framework/Resources/bin/R RUVcorr.buildbin-libdir StartedAt: 2025-01-31 13:35:48 -0500 (Fri, 31 Jan 2025) EndedAt: 2025-01-31 13:35:59 -0500 (Fri, 31 Jan 2025) EllapsedTime: 11.7 seconds RetCode: 0 Status: OK PackageFile: RUVcorr_1.38.0.tgz PackageFileSize: 793 KiB