Package: RUVcorr Version: 1.38.0 Command: /Library/Frameworks/R.framework/Resources/bin/R CMD build --keep-empty-dirs --no-resave-data RUVcorr StartedAt: 2025-01-31 06:57:25 -0500 (Fri, 31 Jan 2025) EndedAt: 2025-01-31 06:58:25 -0500 (Fri, 31 Jan 2025) EllapsedTime: 60.1 seconds RetCode: 0 Status: OK PackageFile: RUVcorr_1.38.0.tar.gz PackageFileSize: 672.4 KiB