Package: RTopper Version: 1.52.0 Command: /home/biocbuild/bbs-3.20-bioc/R/bin/R CMD INSTALL RTopper StartedAt: 2025-01-30 15:47:33 -0500 (Thu, 30 Jan 2025) EndedAt: 2025-01-30 15:47:40 -0500 (Thu, 30 Jan 2025) EllapsedTime: 6.2 seconds RetCode: 0 Status: OK