Package: RTNduals Version: 1.30.0 Command: /home/biocbuild/R/R/bin/R CMD INSTALL RTNduals StartedAt: 2025-01-30 21:03:23 -0000 (Thu, 30 Jan 2025) EndedAt: 2025-01-30 21:03:59 -0000 (Thu, 30 Jan 2025) EllapsedTime: 36.8 seconds RetCode: 0 Status: OK