Package: RTNduals Version: 1.30.0 Command: /home/biocbuild/R/R/bin/R CMD check --install=check:RTNduals.install-out.txt --library=/home/biocbuild/R/R/site-library --no-vignettes --timings RTNduals_1.30.0.tar.gz StartedAt: 2025-01-31 09:57:17 -0000 (Fri, 31 Jan 2025) EndedAt: 2025-01-31 10:07:54 -0000 (Fri, 31 Jan 2025) EllapsedTime: 637.7 seconds RetCode: 0 Status: OK CheckDir: RTNduals.Rcheck Warnings: 0