Package: RTNduals Version: 1.30.0 Command: F:\biocbuild\bbs-3.20-bioc\R\bin\R.exe CMD INSTALL RTNduals StartedAt: 2025-01-30 16:50:17 -0500 (Thu, 30 Jan 2025) EndedAt: 2025-01-30 16:51:00 -0500 (Thu, 30 Jan 2025) EllapsedTime: 42.6 seconds RetCode: 0 Status: OK