Package: RTNduals Version: 1.30.0 Command: /Library/Frameworks/R.framework/Resources/bin/R CMD build --keep-empty-dirs --no-resave-data RTNduals StartedAt: 2025-01-30 22:25:55 -0500 (Thu, 30 Jan 2025) EndedAt: 2025-01-30 22:28:57 -0500 (Thu, 30 Jan 2025) EllapsedTime: 182.7 seconds RetCode: 0 Status: OK PackageFile: RTNduals_1.30.0.tar.gz PackageFileSize: 584.3 KiB