Package: RTNduals Version: 1.30.0 Command: rm -rf RTNduals.buildbin-libdir && mkdir RTNduals.buildbin-libdir && /Users/biocbuild/BBS/utils/build-universal.sh RTNduals_1.30.0.tar.gz /Library/Frameworks/R.framework/Resources/bin/R RTNduals.buildbin-libdir StartedAt: 2025-01-31 13:35:29 -0500 (Fri, 31 Jan 2025) EndedAt: 2025-01-31 13:36:36 -0500 (Fri, 31 Jan 2025) EllapsedTime: 67.3 seconds RetCode: 0 Status: OK PackageFile: RTNduals_1.30.0.tgz PackageFileSize: 732.9 KiB