Package: RTNduals Version: 1.30.0 Command: /Library/Frameworks/R.framework/Resources/bin/R CMD INSTALL RTNduals StartedAt: 2025-01-30 18:01:45 -0500 (Thu, 30 Jan 2025) EndedAt: 2025-01-30 18:02:19 -0500 (Thu, 30 Jan 2025) EllapsedTime: 34.2 seconds RetCode: 0 Status: OK