Package: RTNduals Version: 1.30.0 Command: rm -rf RTNduals.buildbin-libdir && mkdir RTNduals.buildbin-libdir && /Users/biocbuild/BBS/utils/build-universal.sh RTNduals_1.30.0.tar.gz /Library/Frameworks/R.framework/Resources/bin/R RTNduals.buildbin-libdir StartedAt: 2025-02-01 16:39:21 -0500 (Sat, 01 Feb 2025) EndedAt: 2025-02-01 16:40:00 -0500 (Sat, 01 Feb 2025) EllapsedTime: 38.7 seconds RetCode: 0 Status: OK PackageFile: RTNduals_1.30.0.tgz PackageFileSize: 733 KiB