Package: RTN Version: 2.30.0 Command: /home/biocbuild/R/R/bin/R CMD check --install=check:RTN.install-out.txt --library=/home/biocbuild/R/R/site-library --no-vignettes --timings RTN_2.30.0.tar.gz StartedAt: 2025-01-31 09:57:15 -0000 (Fri, 31 Jan 2025) EndedAt: 2025-01-31 10:02:37 -0000 (Fri, 31 Jan 2025) EllapsedTime: 322.5 seconds RetCode: 0 Status: OK CheckDir: RTN.Rcheck Warnings: 0