Package: RTN Version: 2.30.0 Command: /home/biocbuild/bbs-3.20-bioc/R/bin/R CMD INSTALL RTN StartedAt: 2025-01-30 15:56:33 -0500 (Thu, 30 Jan 2025) EndedAt: 2025-01-30 15:57:13 -0500 (Thu, 30 Jan 2025) EllapsedTime: 40.3 seconds RetCode: 0 Status: OK