Package: RTN Version: 2.30.0 Command: /Library/Frameworks/R.framework/Resources/bin/R CMD check --install=check:RTN.install-out.txt --library=/Library/Frameworks/R.framework/Resources/library --no-vignettes --timings RTN_2.30.0.tar.gz StartedAt: 2025-01-31 09:20:02 -0500 (Fri, 31 Jan 2025) EndedAt: 2025-01-31 09:29:08 -0500 (Fri, 31 Jan 2025) EllapsedTime: 546.0 seconds RetCode: 0 Status: OK CheckDir: RTN.Rcheck Warnings: 0