Package: RTN Version: 2.30.0 Command: /Library/Frameworks/R.framework/Resources/bin/R CMD check --install=check:RTN.install-out.txt --library=/Library/Frameworks/R.framework/Resources/library --no-vignettes --timings RTN_2.30.0.tar.gz StartedAt: 2025-02-01 07:31:39 -0500 (Sat, 01 Feb 2025) EndedAt: 2025-02-01 07:36:25 -0500 (Sat, 01 Feb 2025) EllapsedTime: 285.7 seconds RetCode: 0 Status: OK CheckDir: RTN.Rcheck Warnings: 0