Package: RTCA Version: 1.58.0 Command: /Library/Frameworks/R.framework/Resources/bin/R CMD INSTALL RTCA StartedAt: 2025-01-30 15:06:06 -0500 (Thu, 30 Jan 2025) EndedAt: 2025-01-30 15:06:10 -0500 (Thu, 30 Jan 2025) EllapsedTime: 3.4 seconds RetCode: 0 Status: OK