Package: RTCA Version: 1.58.0 Command: rm -rf RTCA.buildbin-libdir && mkdir RTCA.buildbin-libdir && /Users/biocbuild/BBS/utils/build-universal.sh RTCA_1.58.0.tar.gz /Library/Frameworks/R.framework/Resources/bin/R RTCA.buildbin-libdir StartedAt: 2025-02-01 16:38:56 -0500 (Sat, 01 Feb 2025) EndedAt: 2025-02-01 16:39:03 -0500 (Sat, 01 Feb 2025) EllapsedTime: 6.8 seconds RetCode: 0 Status: OK PackageFile: RTCA_1.58.0.tgz PackageFileSize: 592.8 KiB