Package: RRHO Version: 1.46.0 Command: /Library/Frameworks/R.framework/Resources/bin/R CMD build --keep-empty-dirs --no-resave-data RRHO StartedAt: 2025-01-31 06:50:55 -0500 (Fri, 31 Jan 2025) EndedAt: 2025-01-31 06:51:07 -0500 (Fri, 31 Jan 2025) EllapsedTime: 12.6 seconds RetCode: 0 Status: OK PackageFile: RRHO_1.46.0.tar.gz PackageFileSize: 717.9 KiB