Package: RRHO Version: 1.46.0 Command: rm -rf RRHO.buildbin-libdir && mkdir RRHO.buildbin-libdir && /Users/biocbuild/BBS/utils/build-universal.sh RRHO_1.46.0.tar.gz /Library/Frameworks/R.framework/Resources/bin/R RRHO.buildbin-libdir StartedAt: 2025-02-01 16:38:00 -0500 (Sat, 01 Feb 2025) EndedAt: 2025-02-01 16:38:03 -0500 (Sat, 01 Feb 2025) EllapsedTime: 3.4 seconds RetCode: 0 Status: OK PackageFile: RRHO_1.46.0.tgz PackageFileSize: 749.7 KiB