Package: RProtoBufLib Version: 2.18.0 Command: F:\biocbuild\bbs-3.20-bioc\R\bin\R.exe CMD check --no-multiarch --install=check:RProtoBufLib.install-out.txt --library=F:\biocbuild\bbs-3.20-bioc\R\library --no-vignettes --timings RProtoBufLib_2.18.0.tar.gz StartedAt: 2025-01-31 05:54:55 -0500 (Fri, 31 Jan 2025) EndedAt: 2025-01-31 05:55:28 -0500 (Fri, 31 Jan 2025) EllapsedTime: 33.1 seconds RetCode: 0 Status: OK CheckDir: RProtoBufLib.Rcheck Warnings: 0