Package: RProtoBufLib Version: 2.18.0 Command: chmod a+r RProtoBufLib -R && F:\biocbuild\bbs-3.20-bioc\R\bin\R.exe CMD build --keep-empty-dirs --no-resave-data RProtoBufLib StartedAt: 2025-01-30 21:30:40 -0500 (Thu, 30 Jan 2025) EndedAt: 2025-01-30 21:31:39 -0500 (Thu, 30 Jan 2025) EllapsedTime: 58.7 seconds RetCode: 0 Status: OK PackageFile: RProtoBufLib_2.18.0.tar.gz PackageFileSize: 21.08 MiB