Package: ROSeq Version: 1.18.0 Command: /home/biocbuild/R/R/bin/R CMD INSTALL ROSeq StartedAt: 2025-01-30 20:11:38 -0000 (Thu, 30 Jan 2025) EndedAt: 2025-01-30 20:12:09 -0000 (Thu, 30 Jan 2025) EllapsedTime: 30.3 seconds RetCode: 0 Status: OK