Package: ROSeq Version: 1.18.0 Command: /home/biocbuild/R/R/bin/R CMD check --install=check:ROSeq.install-out.txt --library=/home/biocbuild/R/R/site-library --no-vignettes --timings ROSeq_1.18.0.tar.gz StartedAt: 2025-01-31 09:52:53 -0000 (Fri, 31 Jan 2025) EndedAt: 2025-01-31 09:57:17 -0000 (Fri, 31 Jan 2025) EllapsedTime: 263.2 seconds RetCode: 0 Status: WARNINGS CheckDir: ROSeq.Rcheck Warnings: 1