Package: RNAseqCovarImpute Version: 1.4.0 Command: F:\biocbuild\bbs-3.20-bioc\R\bin\R.exe CMD INSTALL RNAseqCovarImpute StartedAt: 2025-01-30 16:30:15 -0500 (Thu, 30 Jan 2025) EndedAt: 2025-01-30 16:31:19 -0500 (Thu, 30 Jan 2025) EllapsedTime: 64.0 seconds RetCode: 0 Status: OK