Package: RNAsense Version: 1.20.0 Command: /home/biocbuild/R/R/bin/R CMD build --keep-empty-dirs --no-resave-data RNAsense StartedAt: 2025-01-31 02:14:33 -0000 (Fri, 31 Jan 2025) EndedAt: 2025-01-31 02:21:13 -0000 (Fri, 31 Jan 2025) EllapsedTime: 399.5 seconds RetCode: 0 Status: OK PackageFile: RNAsense_1.20.0.tar.gz PackageFileSize: 848.6 KiB