Package: RNAsense Version: 1.20.0 Command: F:\biocbuild\bbs-3.20-bioc\R\bin\R.exe CMD check --no-multiarch --install=check:RNAsense.install-out.txt --library=F:\biocbuild\bbs-3.20-bioc\R\library --no-vignettes --timings RNAsense_1.20.0.tar.gz StartedAt: 2025-01-31 05:50:54 -0500 (Fri, 31 Jan 2025) EndedAt: 2025-01-31 06:07:32 -0500 (Fri, 31 Jan 2025) EllapsedTime: 997.8 seconds RetCode: 0 Status: WARNINGS CheckDir: RNAsense.Rcheck Warnings: 1