Package: RNAsense Version: 1.20.0 Command: rm -rf RNAsense.buildbin-libdir && mkdir RNAsense.buildbin-libdir && /Users/biocbuild/BBS/utils/build-universal.sh RNAsense_1.20.0.tar.gz /Library/Frameworks/R.framework/Resources/bin/R RNAsense.buildbin-libdir StartedAt: 2025-02-01 16:35:15 -0500 (Sat, 01 Feb 2025) EndedAt: 2025-02-01 16:35:44 -0500 (Sat, 01 Feb 2025) EllapsedTime: 29.3 seconds RetCode: 0 Status: OK PackageFile: RNAsense_1.20.0.tgz PackageFileSize: 948.8 KiB