Package: RNAmodR Version: 1.20.0 Command: /home/biocbuild/R/R/bin/R CMD INSTALL RNAmodR StartedAt: 2025-01-30 20:43:54 -0000 (Thu, 30 Jan 2025) EndedAt: 2025-01-30 20:45:22 -0000 (Thu, 30 Jan 2025) EllapsedTime: 87.5 seconds RetCode: 0 Status: OK