Package: RNAmodR Version: 1.20.0 Command: /home/biocbuild/R/R/bin/R CMD check --install=check:RNAmodR.install-out.txt --library=/home/biocbuild/R/R/site-library --no-vignettes --timings RNAmodR_1.20.0.tar.gz StartedAt: 2025-01-31 09:47:45 -0000 (Fri, 31 Jan 2025) EndedAt: 2025-01-31 09:59:24 -0000 (Fri, 31 Jan 2025) EllapsedTime: 698.6 seconds RetCode: 0 Status: OK CheckDir: RNAmodR.Rcheck Warnings: 0