Package: RNAmodR.ML Version: 1.20.0 Command: chmod a+r RNAmodR.ML -R && F:\biocbuild\bbs-3.20-bioc\R\bin\R.exe CMD build --keep-empty-dirs --no-resave-data RNAmodR.ML StartedAt: 2025-01-30 21:27:36 -0500 (Thu, 30 Jan 2025) EndedAt: 2025-01-30 21:31:50 -0500 (Thu, 30 Jan 2025) EllapsedTime: 254.4 seconds RetCode: 0 Status: OK PackageFile: RNAmodR.ML_1.20.0.tar.gz PackageFileSize: 1.273 MiB