Package: RNAmodR.AlkAnilineSeq Version: 1.20.0 Command: /home/biocbuild/bbs-3.20-bioc/R/bin/R CMD build --keep-empty-dirs --no-resave-data --md5 RNAmodR.AlkAnilineSeq StartedAt: 2025-01-30 18:52:35 -0500 (Thu, 30 Jan 2025) EndedAt: 2025-01-30 18:54:42 -0500 (Thu, 30 Jan 2025) EllapsedTime: 127.1 seconds RetCode: 0 Status: OK PackageFile: RNAmodR.AlkAnilineSeq_1.20.0.tar.gz PackageFileSize: 1.051 MiB