Package: RNASeqPower Version: 1.46.0 Command: /Library/Frameworks/R.framework/Resources/bin/R CMD check --install=check:RNASeqPower.install-out.txt --library=/Library/Frameworks/R.framework/Resources/library --no-vignettes --timings RNASeqPower_1.46.0.tar.gz StartedAt: 2025-02-01 07:10:23 -0500 (Sat, 01 Feb 2025) EndedAt: 2025-02-01 07:10:45 -0500 (Sat, 01 Feb 2025) EllapsedTime: 21.4 seconds RetCode: 0 Status: OK CheckDir: RNASeqPower.Rcheck Warnings: 0