Package: RMassBank Version: 3.16.0 Command: /home/biocbuild/R/R/bin/R CMD build --keep-empty-dirs --no-resave-data RMassBank StartedAt: 2025-01-31 02:13:14 -0000 (Fri, 31 Jan 2025) EndedAt: 2025-01-31 02:23:21 -0000 (Fri, 31 Jan 2025) EllapsedTime: 606.7 seconds RetCode: 0 Status: OK PackageFile: RMassBank_3.16.0.tar.gz PackageFileSize: 1.438 MiB