Package: RMassBank Version: 3.16.0 Command: F:\biocbuild\bbs-3.20-bioc\R\bin\R.exe CMD INSTALL RMassBank StartedAt: 2025-01-30 16:49:57 -0500 (Thu, 30 Jan 2025) EndedAt: 2025-01-30 16:52:05 -0500 (Thu, 30 Jan 2025) EllapsedTime: 127.4 seconds RetCode: 0 Status: OK