Package: RMassBank Version: 3.16.0 Command: /home/biocbuild/bbs-3.20-bioc/R/bin/R CMD INSTALL RMassBank StartedAt: 2025-01-30 15:56:47 -0500 (Thu, 30 Jan 2025) EndedAt: 2025-01-30 15:57:41 -0500 (Thu, 30 Jan 2025) EllapsedTime: 53.8 seconds RetCode: 0 Status: OK