Package: RMassBank Version: 3.16.0 Command: /home/biocbuild/bbs-3.20-bioc/R/bin/R CMD check --install=check:RMassBank.install-out.txt --library=/home/biocbuild/bbs-3.20-bioc/R/site-library --timings RMassBank_3.16.0.tar.gz StartedAt: 2025-01-31 01:39:45 -0500 (Fri, 31 Jan 2025) EndedAt: 2025-01-31 01:50:41 -0500 (Fri, 31 Jan 2025) EllapsedTime: 655.7 seconds RetCode: 0 Status: OK CheckDir: RMassBank.Rcheck Warnings: 0